BEGIN:VCALENDAR
VERSION:2.0
PRODID:-//Tukios.com/
BEGIN:VEVENT
UID:23646fdc-bb60-4660-bebe-47e6a3440192@www.burkefuneralhome.com
DTSTAMP:20260422T065045Z
DTSTART:20260424T200000Z
DTEND:20260424T230000Z
SUMMARY:Visitation
DESCRIPTION:The Elks will conduct their service at 5pm.
URL:https://www.burkefuneralhome.com/obituaries/l-foster-james
LOCATION: 628 N Broadway  Saratoga Springs NY 12866
GEO:43.0885073;-73.7821725
END:VEVENT
END:VCALENDAR