BEGIN:VCALENDAR
VERSION:2.0
PRODID:-//Tukios.com/
BEGIN:VEVENT
UID:ead887a4-2aca-4a0f-8ec3-d0adff6f9ab3@www.burkefuneralhome.com
DTSTAMP:20260422T065631Z
DTSTART:20260425T140000Z
DTEND:20260425T150000Z
SUMMARY:Mass of Christian Burial
DESCRIPTION:
URL:https://www.burkefuneralhome.com/obituaries/l-foster-james
LOCATION: 241 Broadway  Saratoga Springs NY 12866
GEO:43.0765268;-73.787163
END:VEVENT
END:VCALENDAR