BEGIN:VCALENDAR
VERSION:2.0
PRODID:-//Tukios.com/
BEGIN:VEVENT
UID:4be46b07-6e1f-4908-a916-03eb405e2ac3@www.burkefuneralhome.com
DTSTAMP:20260422T213947Z
DTSTART:20260426T210000Z
DTEND:20260427T000000Z
SUMMARY:Celebration of Life
DESCRIPTION:
URL:https://www.burkefuneralhome.com/obituaries/nancy-maloney
LOCATION:Brown's Brewing Co.'s Malt Room 417 River Street  Troy NY 12180
GEO:42.735796;-73.6876963
END:VEVENT
END:VCALENDAR