BEGIN:VCALENDAR
VERSION:2.0
PRODID:-//Tukios.com/
BEGIN:VEVENT
UID:1eeeef72-d11c-4970-8cc7-263efbb43223@www.burkefuneralhome.com
DTSTAMP:20260422T214134Z
DTSTART:20260502T153000Z
DTEND:20260502T163000Z
SUMMARY:Funeral Mass
DESCRIPTION:
URL:https://www.burkefuneralhome.com/obituaries/nancy-maloney
LOCATION: 231 Lake Avenue  Saratoga Springs NY 12866
GEO:43.084983;-73.7670167
END:VEVENT
END:VCALENDAR